BEGIN:VCALENDAR
VERSION:2.0
PRODID:-//North America Operations, RCCG - ECPv6.15.20//NONSGML v1.0//EN
CALSCALE:GREGORIAN
METHOD:PUBLISH
X-WR-CALNAME:North America Operations, RCCG
X-ORIGINAL-URL:https://www.rccgna.org
X-WR-CALDESC:Events for North America Operations, RCCG
REFRESH-INTERVAL;VALUE=DURATION:PT1H
X-Robots-Tag:noindex
X-PUBLISHED-TTL:PT1H
BEGIN:VTIMEZONE
TZID:America/New_York
BEGIN:DAYLIGHT
TZOFFSETFROM:-0500
TZOFFSETTO:-0400
TZNAME:EDT
DTSTART:20250309T070000
END:DAYLIGHT
BEGIN:STANDARD
TZOFFSETFROM:-0400
TZOFFSETTO:-0500
TZNAME:EST
DTSTART:20251102T060000
END:STANDARD
BEGIN:DAYLIGHT
TZOFFSETFROM:-0500
TZOFFSETTO:-0400
TZNAME:EDT
DTSTART:20260308T070000
END:DAYLIGHT
BEGIN:STANDARD
TZOFFSETFROM:-0400
TZOFFSETTO:-0500
TZNAME:EST
DTSTART:20261101T060000
END:STANDARD
BEGIN:DAYLIGHT
TZOFFSETFROM:-0500
TZOFFSETTO:-0400
TZNAME:EDT
DTSTART:20270314T070000
END:DAYLIGHT
BEGIN:STANDARD
TZOFFSETFROM:-0400
TZOFFSETTO:-0500
TZNAME:EST
DTSTART:20271107T060000
END:STANDARD
END:VTIMEZONE
BEGIN:VEVENT
DTSTART;TZID=America/New_York:20260801T080000
DTEND;TZID=America/New_York:20260831T170000
DTSTAMP:20260423T105302
CREATED:20260109T184853Z
LAST-MODIFIED:20260217T192438Z
UID:9198-1785571200-1788195600@www.rccgna.org
SUMMARY:Men of Impact
DESCRIPTION:
URL:https://www.rccgna.org/event/men-of-impact-virtual-3/
LOCATION:Baltimore Maryland
CATEGORIES:2026,Continental Americas Events
ATTACH;FMTTYPE=image/jpeg:https://www.rccgna.org/wp-content/uploads/2026/01/Men-Impact.jpg
END:VEVENT
BEGIN:VEVENT
DTSTART;TZID=America/New_York:20260910T080000
DTEND;TZID=America/New_York:20260912T170000
DTSTAMP:20260423T105302
CREATED:20260109T185249Z
LAST-MODIFIED:20260109T185801Z
UID:9200-1789027200-1789232400@www.rccgna.org
SUMMARY:Solemn Assembly
DESCRIPTION:
URL:https://www.rccgna.org/event/solemn-assembly-5/
LOCATION:Detroit\, MI
CATEGORIES:2026,Continental Americas Events
ATTACH;FMTTYPE=image/jpeg:https://www.rccgna.org/wp-content/uploads/2024/01/Solemn-Assembly.jpg
END:VEVENT
BEGIN:VEVENT
DTSTART;TZID=America/New_York:20261019T080000
DTEND;TZID=America/New_York:20261021T170000
DTSTAMP:20260423T105302
CREATED:20260109T190644Z
LAST-MODIFIED:20260109T192255Z
UID:9207-1792396800-1792602000@www.rccgna.org
SUMMARY:Central America/ Light up Costa Rica
DESCRIPTION:
URL:https://www.rccgna.org/event/central-america-light-up-costa-rica/
CATEGORIES:2026,Continental Americas Events
ATTACH;FMTTYPE=image/jpeg:https://www.rccgna.org/wp-content/uploads/2026/01/Central-America.jpg
END:VEVENT
BEGIN:VEVENT
DTSTART;TZID=America/New_York:20261118T080000
DTEND;TZID=America/New_York:20261121T170000
DTSTAMP:20260423T105302
CREATED:20260109T193249Z
LAST-MODIFIED:20260109T193249Z
UID:9210-1794988800-1795280400@www.rccgna.org
SUMMARY:PWF Conference
DESCRIPTION:
URL:https://www.rccgna.org/event/pwf-conference-3/
CATEGORIES:2026,Continental Americas Events
ATTACH;FMTTYPE=image/jpeg:https://www.rccgna.org/wp-content/uploads/2024/01/PWF-Conference.jpg
END:VEVENT
END:VCALENDAR